BEGIN:VCALENDAR
VERSION:2.0
PRODID:-//Scobees - ECPv6.15.20//NONSGML v1.0//EN
CALSCALE:GREGORIAN
METHOD:PUBLISH
X-WR-CALNAME:Scobees
X-ORIGINAL-URL:https://scobees.com
X-WR-CALDESC:Veranstaltungen für Scobees
REFRESH-INTERVAL;VALUE=DURATION:PT1H
X-Robots-Tag:noindex
X-PUBLISHED-TTL:PT1H
BEGIN:VTIMEZONE
TZID:Europe/Berlin
BEGIN:DAYLIGHT
TZOFFSETFROM:+0100
TZOFFSETTO:+0200
TZNAME:CEST
DTSTART:20220327T010000
END:DAYLIGHT
BEGIN:STANDARD
TZOFFSETFROM:+0200
TZOFFSETTO:+0100
TZNAME:CET
DTSTART:20221030T010000
END:STANDARD
BEGIN:DAYLIGHT
TZOFFSETFROM:+0100
TZOFFSETTO:+0200
TZNAME:CEST
DTSTART:20230326T010000
END:DAYLIGHT
BEGIN:STANDARD
TZOFFSETFROM:+0200
TZOFFSETTO:+0100
TZNAME:CET
DTSTART:20231029T010000
END:STANDARD
BEGIN:DAYLIGHT
TZOFFSETFROM:+0100
TZOFFSETTO:+0200
TZNAME:CEST
DTSTART:20240331T010000
END:DAYLIGHT
BEGIN:STANDARD
TZOFFSETFROM:+0200
TZOFFSETTO:+0100
TZNAME:CET
DTSTART:20241027T010000
END:STANDARD
END:VTIMEZONE
BEGIN:VEVENT
DTSTART;TZID=Europe/Berlin:20230712T133000
DTEND;TZID=Europe/Berlin:20230712T143000
DTSTAMP:20260425T150450
CREATED:20230425T083034Z
LAST-MODIFIED:20230512T083609Z
UID:10000077-1689168600-1689172200@scobees.com
SUMMARY:Online-Einführungssession
DESCRIPTION:Ihre Schule/n sind digital top ausgerüstet\, aber Sie überlegen noch\, sie Sie Tablets & Co sinnvoll einsetzen? Starten Sie jetzt mit offenen Lernformaten wie Lernzeiten\, Segel-Stunden oder sogar Lernen im Lernbüro digital mit Scobees für die aktive Gestaltung von selbstorganiserten Lernen in der Schule \nMit Scobees profitieren Sie gleich dreifach: \n\nSie sparen Zeit bei der Unterrichtsplanung\nSie unterstützen selbstorganisiertes Lerne ohne Druck\nSie schöpfen endlich die digitalen Möglichkeiten an Ihrer Schule voll aus
URL:https://scobees.com/event/13167/2023-07-12/
LOCATION:Online
CATEGORIES:Webinar
ATTACH;FMTTYPE=image/png:https://scobees.com/wp-content/uploads/2023/01/teaser_einfuehrungssession.png
ORGANIZER;CN="Scobees":MAILTO:info@scobees.com
END:VEVENT
BEGIN:VEVENT
DTSTART;TZID=Europe/Berlin:20230705T133000
DTEND;TZID=Europe/Berlin:20230705T143000
DTSTAMP:20260425T150450
CREATED:20230425T083034Z
LAST-MODIFIED:20230512T083609Z
UID:10000076-1688563800-1688567400@scobees.com
SUMMARY:Online-Einführungssession
DESCRIPTION:Ihre Schule/n sind digital top ausgerüstet\, aber Sie überlegen noch\, sie Sie Tablets & Co sinnvoll einsetzen? Starten Sie jetzt mit offenen Lernformaten wie Lernzeiten\, Segel-Stunden oder sogar Lernen im Lernbüro digital mit Scobees für die aktive Gestaltung von selbstorganiserten Lernen in der Schule \nMit Scobees profitieren Sie gleich dreifach: \n\nSie sparen Zeit bei der Unterrichtsplanung\nSie unterstützen selbstorganisiertes Lerne ohne Druck\nSie schöpfen endlich die digitalen Möglichkeiten an Ihrer Schule voll aus
URL:https://scobees.com/event/13167/2023-07-05/
LOCATION:Online
CATEGORIES:Webinar
ATTACH;FMTTYPE=image/png:https://scobees.com/wp-content/uploads/2023/01/teaser_einfuehrungssession.png
ORGANIZER;CN="Scobees":MAILTO:info@scobees.com
END:VEVENT
BEGIN:VEVENT
DTSTART;TZID=Europe/Berlin:20230628T133000
DTEND;TZID=Europe/Berlin:20230628T143000
DTSTAMP:20260425T150450
CREATED:20230425T083034Z
LAST-MODIFIED:20230512T083609Z
UID:10000075-1687959000-1687962600@scobees.com
SUMMARY:Online-Einführungssession
DESCRIPTION:Ihre Schule/n sind digital top ausgerüstet\, aber Sie überlegen noch\, sie Sie Tablets & Co sinnvoll einsetzen? Starten Sie jetzt mit offenen Lernformaten wie Lernzeiten\, Segel-Stunden oder sogar Lernen im Lernbüro digital mit Scobees für die aktive Gestaltung von selbstorganiserten Lernen in der Schule \nMit Scobees profitieren Sie gleich dreifach: \n\nSie sparen Zeit bei der Unterrichtsplanung\nSie unterstützen selbstorganisiertes Lerne ohne Druck\nSie schöpfen endlich die digitalen Möglichkeiten an Ihrer Schule voll aus
URL:https://scobees.com/event/13167/2023-06-28/
LOCATION:Online
CATEGORIES:Webinar
ATTACH;FMTTYPE=image/png:https://scobees.com/wp-content/uploads/2023/01/teaser_einfuehrungssession.png
ORGANIZER;CN="Scobees":MAILTO:info@scobees.com
END:VEVENT
BEGIN:VEVENT
DTSTART;TZID=Europe/Berlin:20230614T133000
DTEND;TZID=Europe/Berlin:20230614T143000
DTSTAMP:20260425T150450
CREATED:20230425T083034Z
LAST-MODIFIED:20230512T083609Z
UID:10000073-1686749400-1686753000@scobees.com
SUMMARY:Online-Einführungssession
DESCRIPTION:Ihre Schule/n sind digital top ausgerüstet\, aber Sie überlegen noch\, sie Sie Tablets & Co sinnvoll einsetzen? Starten Sie jetzt mit offenen Lernformaten wie Lernzeiten\, Segel-Stunden oder sogar Lernen im Lernbüro digital mit Scobees für die aktive Gestaltung von selbstorganiserten Lernen in der Schule \nMit Scobees profitieren Sie gleich dreifach: \n\nSie sparen Zeit bei der Unterrichtsplanung\nSie unterstützen selbstorganisiertes Lerne ohne Druck\nSie schöpfen endlich die digitalen Möglichkeiten an Ihrer Schule voll aus
URL:https://scobees.com/event/13167/2023-06-14/
LOCATION:Online
CATEGORIES:Webinar
ATTACH;FMTTYPE=image/png:https://scobees.com/wp-content/uploads/2023/01/teaser_einfuehrungssession.png
ORGANIZER;CN="Scobees":MAILTO:info@scobees.com
END:VEVENT
BEGIN:VEVENT
DTSTART;TZID=Europe/Berlin:20230607T133000
DTEND;TZID=Europe/Berlin:20230607T143000
DTSTAMP:20260425T150450
CREATED:20230425T083034Z
LAST-MODIFIED:20230512T083609Z
UID:10000072-1686144600-1686148200@scobees.com
SUMMARY:Online-Einführungssession
DESCRIPTION:Ihre Schule/n sind digital top ausgerüstet\, aber Sie überlegen noch\, sie Sie Tablets & Co sinnvoll einsetzen? Starten Sie jetzt mit offenen Lernformaten wie Lernzeiten\, Segel-Stunden oder sogar Lernen im Lernbüro digital mit Scobees für die aktive Gestaltung von selbstorganiserten Lernen in der Schule \nMit Scobees profitieren Sie gleich dreifach: \n\nSie sparen Zeit bei der Unterrichtsplanung\nSie unterstützen selbstorganisiertes Lerne ohne Druck\nSie schöpfen endlich die digitalen Möglichkeiten an Ihrer Schule voll aus
URL:https://scobees.com/event/13167/2023-06-07/
LOCATION:Online
CATEGORIES:Webinar
ATTACH;FMTTYPE=image/png:https://scobees.com/wp-content/uploads/2023/01/teaser_einfuehrungssession.png
ORGANIZER;CN="Scobees":MAILTO:info@scobees.com
END:VEVENT
BEGIN:VEVENT
DTSTART;TZID=Europe/Berlin:20230531T133000
DTEND;TZID=Europe/Berlin:20230531T143000
DTSTAMP:20260425T150450
CREATED:20230425T083034Z
LAST-MODIFIED:20230512T083609Z
UID:10000071-1685539800-1685543400@scobees.com
SUMMARY:Online-Einführungssession
DESCRIPTION:Ihre Schule/n sind digital top ausgerüstet\, aber Sie überlegen noch\, sie Sie Tablets & Co sinnvoll einsetzen? Starten Sie jetzt mit offenen Lernformaten wie Lernzeiten\, Segel-Stunden oder sogar Lernen im Lernbüro digital mit Scobees für die aktive Gestaltung von selbstorganiserten Lernen in der Schule \nMit Scobees profitieren Sie gleich dreifach: \n\nSie sparen Zeit bei der Unterrichtsplanung\nSie unterstützen selbstorganisiertes Lerne ohne Druck\nSie schöpfen endlich die digitalen Möglichkeiten an Ihrer Schule voll aus
URL:https://scobees.com/event/13167/2023-05-31/
LOCATION:Online
CATEGORIES:Webinar
ATTACH;FMTTYPE=image/png:https://scobees.com/wp-content/uploads/2023/01/teaser_einfuehrungssession.png
ORGANIZER;CN="Scobees":MAILTO:info@scobees.com
END:VEVENT
BEGIN:VEVENT
DTSTART;TZID=Europe/Berlin:20230524T133000
DTEND;TZID=Europe/Berlin:20230524T143000
DTSTAMP:20260425T150450
CREATED:20230425T083034Z
LAST-MODIFIED:20230512T083609Z
UID:10000070-1684935000-1684938600@scobees.com
SUMMARY:Online-Einführungssession
DESCRIPTION:Ihre Schule/n sind digital top ausgerüstet\, aber Sie überlegen noch\, sie Sie Tablets & Co sinnvoll einsetzen? Starten Sie jetzt mit offenen Lernformaten wie Lernzeiten\, Segel-Stunden oder sogar Lernen im Lernbüro digital mit Scobees für die aktive Gestaltung von selbstorganiserten Lernen in der Schule \nMit Scobees profitieren Sie gleich dreifach: \n\nSie sparen Zeit bei der Unterrichtsplanung\nSie unterstützen selbstorganisiertes Lerne ohne Druck\nSie schöpfen endlich die digitalen Möglichkeiten an Ihrer Schule voll aus
URL:https://scobees.com/event/13167/2023-05-24/
LOCATION:Online
CATEGORIES:Webinar
ATTACH;FMTTYPE=image/png:https://scobees.com/wp-content/uploads/2023/01/teaser_einfuehrungssession.png
ORGANIZER;CN="Scobees":MAILTO:info@scobees.com
END:VEVENT
BEGIN:VEVENT
DTSTART;TZID=Europe/Berlin:20230510T133000
DTEND;TZID=Europe/Berlin:20230510T143000
DTSTAMP:20260425T150450
CREATED:20230425T083034Z
LAST-MODIFIED:20230512T083609Z
UID:10000069-1683725400-1683729000@scobees.com
SUMMARY:Online-Einführungssession
DESCRIPTION:Ihre Schule/n sind digital top ausgerüstet\, aber Sie überlegen noch\, sie Sie Tablets & Co sinnvoll einsetzen? Starten Sie jetzt mit offenen Lernformaten wie Lernzeiten\, Segel-Stunden oder sogar Lernen im Lernbüro digital mit Scobees für die aktive Gestaltung von selbstorganiserten Lernen in der Schule \nMit Scobees profitieren Sie gleich dreifach: \n\nSie sparen Zeit bei der Unterrichtsplanung\nSie unterstützen selbstorganisiertes Lerne ohne Druck\nSie schöpfen endlich die digitalen Möglichkeiten an Ihrer Schule voll aus
URL:https://scobees.com/event/13167/2023-05-10/
LOCATION:Online
CATEGORIES:Webinar
ATTACH;FMTTYPE=image/png:https://scobees.com/wp-content/uploads/2023/01/teaser_einfuehrungssession.png
ORGANIZER;CN="Scobees":MAILTO:info@scobees.com
END:VEVENT
BEGIN:VEVENT
DTSTART;TZID=Europe/Berlin:20230503T133000
DTEND;TZID=Europe/Berlin:20230503T143000
DTSTAMP:20260425T150450
CREATED:20230425T083034Z
LAST-MODIFIED:20230512T083609Z
UID:10000068-1683120600-1683124200@scobees.com
SUMMARY:Online-Einführungssession
DESCRIPTION:Ihre Schule/n sind digital top ausgerüstet\, aber Sie überlegen noch\, sie Sie Tablets & Co sinnvoll einsetzen? Starten Sie jetzt mit offenen Lernformaten wie Lernzeiten\, Segel-Stunden oder sogar Lernen im Lernbüro digital mit Scobees für die aktive Gestaltung von selbstorganiserten Lernen in der Schule \nMit Scobees profitieren Sie gleich dreifach: \n\nSie sparen Zeit bei der Unterrichtsplanung\nSie unterstützen selbstorganisiertes Lerne ohne Druck\nSie schöpfen endlich die digitalen Möglichkeiten an Ihrer Schule voll aus
URL:https://scobees.com/event/13167/2023-05-03/
LOCATION:Online
CATEGORIES:Webinar
ATTACH;FMTTYPE=image/png:https://scobees.com/wp-content/uploads/2023/01/teaser_einfuehrungssession.png
ORGANIZER;CN="Scobees":MAILTO:info@scobees.com
END:VEVENT
BEGIN:VEVENT
DTSTART;TZID=Europe/Berlin:20230202T103000
DTEND;TZID=Europe/Berlin:20230202T180000
DTSTAMP:20260425T150450
CREATED:20221205T094923Z
LAST-MODIFIED:20230127T163244Z
UID:10000033-1675333800-1675360800@scobees.com
SUMMARY:"Scobees vor Ort" - Community Event in der GAZ Gudensberg - ausgebucht
DESCRIPTION:Das Community Event ist leider schon ausgebucht.\nBitte melden Sie sich direkt für unser Community Event am 9.3 an an der RGS Marburg an. \nAgenda: \n09:30 Uhr: Schulhospitation \nAb 12:30 Uhr starten wir in das Community Event „Scobees vor Ort“. Das hier ist die Kurzagenda: \n12:30 Uhr: Begrüßung Annie Dörfle und Christian Kellermann\n12:45 Uhr: Tipps und Tricks mit Scobees\n13:45 Uhr: Pause\n14:00 Uhr: Björn Nölte über das Konzept Zukunftsschule\n15:00 Uhr: Netzwerken \nErfahren Sie hier mehr über das Community Event „Scobees vor Ort an der Gaz Gudensberg“ \nDas Community Event ist leider schon ausgebucht.\nBitte melden Sie sich direkt für unser Community Event am 9.3 an an der RGS Marburg an.
URL:https://scobees.com/event/scobees-vor-ort-community-event-in-der-gaz-gudensberg/
ATTACH;FMTTYPE=image/png:https://scobees.com/wp-content/uploads/2023/01/community-events.png
ORGANIZER;CN="Scobees":MAILTO:info@scobees.com
END:VEVENT
END:VCALENDAR