BEGIN:VCALENDAR
VERSION:2.0
PRODID:-//Scobees - ECPv6.15.20//NONSGML v1.0//EN
CALSCALE:GREGORIAN
METHOD:PUBLISH
X-ORIGINAL-URL:https://scobees.com
X-WR-CALDESC:Veranstaltungen für Scobees
REFRESH-INTERVAL;VALUE=DURATION:PT1H
X-Robots-Tag:noindex
X-PUBLISHED-TTL:PT1H
BEGIN:VTIMEZONE
TZID:Europe/Berlin
BEGIN:DAYLIGHT
TZOFFSETFROM:+0100
TZOFFSETTO:+0200
TZNAME:CEST
DTSTART:20260329T010000
END:DAYLIGHT
BEGIN:STANDARD
TZOFFSETFROM:+0200
TZOFFSETTO:+0100
TZNAME:CET
DTSTART:20261025T010000
END:STANDARD
BEGIN:DAYLIGHT
TZOFFSETFROM:+0100
TZOFFSETTO:+0200
TZNAME:CEST
DTSTART:20270328T010000
END:DAYLIGHT
BEGIN:STANDARD
TZOFFSETFROM:+0200
TZOFFSETTO:+0100
TZNAME:CET
DTSTART:20271031T010000
END:STANDARD
BEGIN:DAYLIGHT
TZOFFSETFROM:+0100
TZOFFSETTO:+0200
TZNAME:CEST
DTSTART:20280326T010000
END:DAYLIGHT
BEGIN:STANDARD
TZOFFSETFROM:+0200
TZOFFSETTO:+0100
TZNAME:CET
DTSTART:20281029T010000
END:STANDARD
END:VTIMEZONE
BEGIN:VEVENT
DTSTART;VALUE=DATE:20270107
DTEND;VALUE=DATE:20270205
DTSTAMP:20260425T230931
CREATED:20240130T114235Z
LAST-MODIFIED:20240130T114438Z
UID:10000694-1799280000-1801785599@scobees.com
SUMMARY:Jeden Mittwoch - Scobees Online Einführung - Webinar
DESCRIPTION:In dieser 60-minütigen Online-Einführung in Zoom erklären wir Ihnen alles\, was Sie zum Start mit Scobees wissen müssen. Unser Beratungsteam stellt Ihnen jeden Mittwoch um 13:30 Uhr die zentralen Funktionen von Scobees live vor und beantwortet Ihre Fragen. \nAußerdem bieten wir Ihnen ersten Einblicke in praktische Funktionen wie: \nDigitales Lerntagebuch\nDigitaler Lernplaner\nDigitaler Lernpfad\nSo unterstützt Scobees die digitale Schultransformation
URL:https://scobees.com/event/scobees-online-einfuehrung-2/2027-01-07/
LOCATION:Online
ORGANIZER;CN="Scobees":MAILTO:info@scobees.com
END:VEVENT
END:VCALENDAR