BEGIN:VCALENDAR
VERSION:2.0
PRODID:-//Scobees - ECPv6.15.20//NONSGML v1.0//EN
CALSCALE:GREGORIAN
METHOD:PUBLISH
X-ORIGINAL-URL:https://scobees.com
X-WR-CALDESC:Veranstaltungen für Scobees
REFRESH-INTERVAL;VALUE=DURATION:PT1H
X-Robots-Tag:noindex
X-PUBLISHED-TTL:PT1H
BEGIN:VTIMEZONE
TZID:Europe/Berlin
BEGIN:DAYLIGHT
TZOFFSETFROM:+0100
TZOFFSETTO:+0200
TZNAME:CEST
DTSTART:20230326T010000
END:DAYLIGHT
BEGIN:STANDARD
TZOFFSETFROM:+0200
TZOFFSETTO:+0100
TZNAME:CET
DTSTART:20231029T010000
END:STANDARD
BEGIN:DAYLIGHT
TZOFFSETFROM:+0100
TZOFFSETTO:+0200
TZNAME:CEST
DTSTART:20240331T010000
END:DAYLIGHT
BEGIN:STANDARD
TZOFFSETFROM:+0200
TZOFFSETTO:+0100
TZNAME:CET
DTSTART:20241027T010000
END:STANDARD
BEGIN:DAYLIGHT
TZOFFSETFROM:+0100
TZOFFSETTO:+0200
TZNAME:CEST
DTSTART:20250330T010000
END:DAYLIGHT
BEGIN:STANDARD
TZOFFSETFROM:+0200
TZOFFSETTO:+0100
TZNAME:CET
DTSTART:20251026T010000
END:STANDARD
END:VTIMEZONE
BEGIN:VEVENT
DTSTART;VALUE=DATE:20240404
DTEND;VALUE=DATE:20240503
DTSTAMP:20260423T123016
CREATED:20240130T114235Z
LAST-MODIFIED:20240130T114438Z
UID:10000661-1712188800-1714694399@scobees.com
SUMMARY:Jeden Mittwoch - Scobees Online Einführung - Webinar
DESCRIPTION:In dieser 60-minütigen Online-Einführung in Zoom erklären wir Ihnen alles\, was Sie zum Start mit Scobees wissen müssen. Unser Beratungsteam stellt Ihnen jeden Mittwoch um 13:30 Uhr die zentralen Funktionen von Scobees live vor und beantwortet Ihre Fragen. \nAußerdem bieten wir Ihnen ersten Einblicke in praktische Funktionen wie: \nDigitales Lerntagebuch\nDigitaler Lernplaner\nDigitaler Lernpfad\nSo unterstützt Scobees die digitale Schultransformation
URL:https://scobees.com/event/scobees-online-einfuehrung-2/2024-04-04/
LOCATION:Online
ORGANIZER;CN="Scobees":MAILTO:info@scobees.com
END:VEVENT
BEGIN:VEVENT
DTSTART;TZID=Europe/Berlin:20240410T150000
DTEND;TZID=Europe/Berlin:20240410T163000
DTSTAMP:20260423T123016
CREATED:20240311T144757Z
LAST-MODIFIED:20240321T165010Z
UID:10000728-1712761200-1712766600@scobees.com
SUMMARY:Scobees an Ihrer Schule einführen - Beratung und Impulse für Ihren Schulentwicklungsprozess
DESCRIPTION:Sie sind Teil des Steuerungsteams\, Didaktische Leitung oder Schulleitung an Ihrer Schule und möchten mit Scobees Ihre Schule weiterentwickeln? Sie möchten wissen\, wie Sie bei der Einführung von Scobees an Ihrer Schule vorgehen\, wie Sie Ihr Kollegium dabei optimal mitnehmen können und welche Vorteile Sie durch die Einführung von Scobees haben? \nUnser Referent Cedric Lütgert\, Schulentwicklungsberater und Lehrer an der Richtsberg-Gesamtschule Marburg\, der in der Unterrichtspraxis seit vier Jahren mit Scobees arbeitet\, zeigt in diesem Webinar am Beispiel des Weges seiner Schule auf\, wie man mit Hilfe von Scobees selbstgesteuerte\, individuelle Lernprozesse initiieren kann und was es dabei zu beachten gilt. \n\n\nDas Webinar lädt dazu ein\, sich ein konkretes Beispiel der Einführung von Scobees im Kollegium anzusehen und daraus wichtige Punkte für den eigenen Schulentwicklungsprozess abzuleiten\, aber auch individuelle Fragen zu stellen und sich mit anderen Schulen auszutauschen. \nBitte schreiben Sie an beratung(at)scobeees.com für den Link zum Webinar.
URL:https://scobees.com/event/scobees-an-ihrer-schule-einfuehren-beratung-und-impulse-fuer-ihren-schulentwicklungsprozess/2024-04-10/
LOCATION:Online
ORGANIZER;CN="Scobees":MAILTO:info@scobees.com
END:VEVENT
END:VCALENDAR